BEGIN:VCALENDAR
VERSION:2.0
PRODID:-//Healing &amp; Miracle Church - ECPv6.15.20//NONSGML v1.0//EN
CALSCALE:GREGORIAN
METHOD:PUBLISH
X-WR-CALNAME:Healing &amp; Miracle Church
X-ORIGINAL-URL:https://healingandmiraclechurch.com
X-WR-CALDESC:Events for Healing &amp; Miracle Church
REFRESH-INTERVAL;VALUE=DURATION:PT1H
X-Robots-Tag:noindex
X-PUBLISHED-TTL:PT1H
BEGIN:VTIMEZONE
TZID:America/New_York
BEGIN:DAYLIGHT
TZOFFSETFROM:-0500
TZOFFSETTO:-0400
TZNAME:EDT
DTSTART:20230312T070000
END:DAYLIGHT
BEGIN:STANDARD
TZOFFSETFROM:-0400
TZOFFSETTO:-0500
TZNAME:EST
DTSTART:20231105T060000
END:STANDARD
BEGIN:DAYLIGHT
TZOFFSETFROM:-0500
TZOFFSETTO:-0400
TZNAME:EDT
DTSTART:20240310T070000
END:DAYLIGHT
BEGIN:STANDARD
TZOFFSETFROM:-0400
TZOFFSETTO:-0500
TZNAME:EST
DTSTART:20241103T060000
END:STANDARD
BEGIN:DAYLIGHT
TZOFFSETFROM:-0500
TZOFFSETTO:-0400
TZNAME:EDT
DTSTART:20250309T070000
END:DAYLIGHT
BEGIN:STANDARD
TZOFFSETFROM:-0400
TZOFFSETTO:-0500
TZNAME:EST
DTSTART:20251102T060000
END:STANDARD
BEGIN:DAYLIGHT
TZOFFSETFROM:-0500
TZOFFSETTO:-0400
TZNAME:EDT
DTSTART:20260308T070000
END:DAYLIGHT
BEGIN:STANDARD
TZOFFSETFROM:-0400
TZOFFSETTO:-0500
TZNAME:EST
DTSTART:20261101T060000
END:STANDARD
END:VTIMEZONE
BEGIN:VTIMEZONE
TZID:UTC
BEGIN:STANDARD
TZOFFSETFROM:+0000
TZOFFSETTO:+0000
TZNAME:UTC
DTSTART:20230101T000000
END:STANDARD
END:VTIMEZONE
BEGIN:VEVENT
DTSTART;TZID=America/New_York:20251226T190000
DTEND;TZID=America/New_York:20251226T210000
DTSTAMP:20260423T162847
CREATED:20251226T115809Z
LAST-MODIFIED:20251226T115809Z
UID:2260-1766775600-1766782800@healingandmiraclechurch.com
SUMMARY:End of the Year Services 2025
DESCRIPTION:26th\, 27th and 28th of December 2025
URL:https://healingandmiraclechurch.com/event/end-of-the-year-services-2025/
LOCATION:Healing & Miracle Church\, 1710 Eastern Parkway\, Brooklyn\, New York City\, NY\, 11233\, United States
CATEGORIES:Community,Music,Online
ATTACH;FMTTYPE=image/jpeg:https://healingandmiraclechurch.com/wp-content/uploads/2025/12/christmas-flyer2025.jpg
ORGANIZER;CN="Healing & Miracle Church":MAILTO:vivianmccalman@hotmail.com
END:VEVENT
BEGIN:VEVENT
DTSTART;TZID=America/New_York:20251128T190000
DTEND;TZID=America/New_York:20251128T210000
DTSTAMP:20260423T162847
CREATED:20251208T204930Z
LAST-MODIFIED:20251208T204930Z
UID:2247-1764356400-1764363600@healingandmiraclechurch.com
SUMMARY:Thanksgiving & Church Anniversary
DESCRIPTION:
URL:https://healingandmiraclechurch.com/event/thanksgiving-church-anniversary/
LOCATION:Healing & Miracle Church\, 1710 Eastern Parkway\, Brooklyn\, New York City\, NY\, 11233\, United States
CATEGORIES:Community,Online,Outreach
ATTACH;FMTTYPE=image/jpeg:https://healingandmiraclechurch.com/wp-content/uploads/2025/12/Church_Thanksgiving_Anniversary.jpg
ORGANIZER;CN="Healing & Miracle Church":MAILTO:vivianmccalman@hotmail.com
END:VEVENT
BEGIN:VEVENT
DTSTART;TZID=America/New_York:20250925T190000
DTEND;TZID=America/New_York:20250925T190000
DTSTAMP:20260423T162847
CREATED:20250913T194440Z
LAST-MODIFIED:20250920T202037Z
UID:2243-1758826800-1758826800@healingandmiraclechurch.com
SUMMARY:Healing Seminar
DESCRIPTION:
URL:https://healingandmiraclechurch.com/event/healing-seminar/
LOCATION:Healing & Miracle Church\, 1710 Eastern Parkway\, Brooklyn\, New York City\, NY\, 11233\, United States
CATEGORIES:Community,Online,Outreach
ATTACH;FMTTYPE=image/jpeg:https://healingandmiraclechurch.com/wp-content/uploads/2025/09/church-flyer-healing-web.jpg
ORGANIZER;CN="Healing & Miracle Church":MAILTO:vivianmccalman@hotmail.com
END:VEVENT
BEGIN:VEVENT
DTSTART;TZID=America/New_York:20250601T120000
DTEND;TZID=America/New_York:20250601T120000
DTSTAMP:20260423T162847
CREATED:20250530T141925Z
LAST-MODIFIED:20250530T142025Z
UID:2238-1748779200-1748779200@healingandmiraclechurch.com
SUMMARY:Holy Ghost Refreshing Sunday Services
DESCRIPTION:Holy Ghost Refreshing Sunday Services \nJoin us on June 1st and June 8th 2025 starting at 12pm at 1710 Eastern Parkway\, Brooklyn NY 11233
URL:https://healingandmiraclechurch.com/event/holy-ghost-refreshing-sunday-services/
LOCATION:Healing & Miracle Church\, 1710 Eastern Parkway\, Brooklyn\, New York City\, NY\, 11233\, United States
CATEGORIES:Community,Online,Outreach
ATTACH;FMTTYPE=image/jpeg:https://healingandmiraclechurch.com/wp-content/uploads/2025/05/Holy-Ghost-Refreshing-Sunday-Services-web.jpg
ORGANIZER;CN="Healing & Miracle Church":MAILTO:vivianmccalman@hotmail.com
END:VEVENT
BEGIN:VEVENT
DTSTART;TZID=America/New_York:20250511T120000
DTEND;TZID=America/New_York:20250511T120000
DTSTAMP:20260423T162847
CREATED:20250509T003345Z
LAST-MODIFIED:20250509T003626Z
UID:2235-1746964800-1746964800@healingandmiraclechurch.com
SUMMARY:Mother's Day 2025 Church Service
DESCRIPTION:
URL:https://healingandmiraclechurch.com/event/mothers-day-2025-church-service/
LOCATION:NY
CATEGORIES:Community,Online,Outreach
ATTACH;FMTTYPE=image/jpeg:https://healingandmiraclechurch.com/wp-content/uploads/2025/05/web-mothers-day-service-jesus.jpg
ORGANIZER;CN="Healing & Miracle Church":MAILTO:vivianmccalman@hotmail.com
END:VEVENT
BEGIN:VEVENT
DTSTART;TZID=America/New_York:20250504T080000
DTEND;TZID=America/New_York:20250504T080000
DTSTAMP:20260423T162847
CREATED:20250404T125312Z
LAST-MODIFIED:20250504T221021Z
UID:2214-1746345600-1746345600@healingandmiraclechurch.com
SUMMARY:3 Days of Special Meetings
DESCRIPTION:
URL:https://healingandmiraclechurch.com/event/3-days-of-special-meetings/
LOCATION:Healing & Miracle Church\, 1710 Eastern Parkway\, Brooklyn\, New York City\, NY\, 11233\, United States
CATEGORIES:Community,Online,Outreach
ATTACH;FMTTYPE=image/jpeg:https://healingandmiraclechurch.com/wp-content/uploads/2025/05/3days.jpg
ORGANIZER;CN="Healing & Miracle Church":MAILTO:vivianmccalman@hotmail.com
END:VEVENT
BEGIN:VEVENT
DTSTART;TZID=America/New_York:20250502T230000
DTEND;TZID=America/New_York:20250502T230000
DTSTAMP:20260423T162847
CREATED:20250504T132919Z
LAST-MODIFIED:20250504T133341Z
UID:2224-1746226800-1746226800@healingandmiraclechurch.com
SUMMARY:Holy Ghost Fire Outpouring
DESCRIPTION:
URL:https://healingandmiraclechurch.com/event/holy-ghost-fire-outpouring/
LOCATION:Healing & Miracle Church\, 1710 Eastern Parkway\, Brooklyn\, New York City\, NY\, 11233\, United States
CATEGORIES:Community,Online
ATTACH;FMTTYPE=image/jpeg:https://healingandmiraclechurch.com/wp-content/uploads/2025/05/holyghostfireoutpouring-small.jpg
ORGANIZER;CN="Healing & Miracle Church":MAILTO:vivianmccalman@hotmail.com
END:VEVENT
BEGIN:VEVENT
DTSTART;TZID=America/New_York:20241227T183000
DTEND;TZID=America/New_York:20241227T183000
DTSTAMP:20260423T162847
CREATED:20241204T133943Z
LAST-MODIFIED:20250504T221152Z
UID:2208-1735324200-1735324200@healingandmiraclechurch.com
SUMMARY:End of the Year - New Anointing Revival
DESCRIPTION:
URL:https://healingandmiraclechurch.com/event/end-of-the-year-new-anointing-revival/
LOCATION:Healing & Miracle Church\, 1710 Eastern Parkway\, Brooklyn\, New York City\, NY\, 11233\, United States
CATEGORIES:Community
ATTACH;FMTTYPE=image/jpeg:https://healingandmiraclechurch.com/wp-content/uploads/2025/02/anointing-revival-hmc.jpg
ORGANIZER;CN="Healing & Miracle Church":MAILTO:vivianmccalman@hotmail.com
END:VEVENT
BEGIN:VEVENT
DTSTART;TZID=UTC:20241201T120000
DTEND;TZID=UTC:20241201T120000
DTSTAMP:20260423T162847
CREATED:20241205T235421Z
LAST-MODIFIED:20250504T132413Z
UID:439-1733054400-1733054400@healingandmiraclechurch.com
SUMMARY:12th Year Anniversary - Day 2
DESCRIPTION:
URL:https://healingandmiraclechurch.com/event/church-anniversary-12years/
LOCATION:Healing & Miracle Church\, 1710 Eastern Parkway\, Brooklyn\, New York City\, NY\, 11233\, United States
CATEGORIES:Community
ATTACH;FMTTYPE=image/jpeg:https://healingandmiraclechurch.com/wp-content/uploads/2025/02/church-anniversary-finaledit-3.jpg
ORGANIZER;CN="Healing & Miracle Church":MAILTO:vivianmccalman@hotmail.com
END:VEVENT
BEGIN:VEVENT
DTSTART;TZID=UTC:20241129T183000
DTEND;TZID=UTC:20241129T183000
DTSTAMP:20260423T162847
CREATED:20241116T234729Z
LAST-MODIFIED:20250504T221354Z
UID:438-1732905000-1732905000@healingandmiraclechurch.com
SUMMARY:12th Year Anniversary - Day 1
DESCRIPTION:
URL:https://healingandmiraclechurch.com/event/faith-conference/
LOCATION:Healing & Miracle Church\, 1710 Eastern Parkway\, Brooklyn\, New York City\, NY\, 11233\, United States
CATEGORIES:Community
ATTACH;FMTTYPE=image/jpeg:https://healingandmiraclechurch.com/wp-content/uploads/2025/02/church-anniversary-finaledit-3.jpg
ORGANIZER;CN="Healing & Miracle Church":MAILTO:vivianmccalman@hotmail.com
END:VEVENT
BEGIN:VEVENT
DTSTART;TZID=America/New_York:20240202T120000
DTEND;TZID=America/New_York:20240202T120000
DTSTAMP:20260423T162847
CREATED:20240104T134919Z
LAST-MODIFIED:20250504T221241Z
UID:2212-1706875200-1706875200@healingandmiraclechurch.com
SUMMARY:Your Healing Time is Now - Live on Zoom
DESCRIPTION:
URL:https://healingandmiraclechurch.com/event/your-healing-time-is-now-live-on-zoom/
LOCATION:Healing & Miracle Church\, 1710 Eastern Parkway\, Brooklyn\, New York City\, NY\, 11233\, United States
CATEGORIES:Community,Online
ATTACH;FMTTYPE=image/jpeg:https://healingandmiraclechurch.com/wp-content/uploads/2025/02/HealingNowFlyer.jpg
ORGANIZER;CN="Healing & Miracle Church":MAILTO:vivianmccalman@hotmail.com
END:VEVENT
END:VCALENDAR